BEGIN:VCALENDAR
VERSION:2.0
PRODID:-//NASCO - ECPv4.9.11//NONSGML v1.0//EN
CALSCALE:GREGORIAN
METHOD:PUBLISH
X-WR-CALNAME:NASCO
X-ORIGINAL-URL:https://nasco.int
X-WR-CALDESC:Events for NASCO
BEGIN:VTIMEZONE
TZID:UTC
BEGIN:STANDARD
TZOFFSETFROM:+0000
TZOFFSETTO:+0000
TZNAME:UTC
DTSTART:20260101T000000
END:STANDARD
END:VTIMEZONE
BEGIN:VEVENT
DTSTART;TZID=UTC:20260224T090000
DTEND;TZID=UTC:20260224T170000
DTSTAMP:20260419T182332
CREATED:20251126T082955Z
LAST-MODIFIED:20251126T082955Z
UID:23597-1771923600-1771952400@nasco.int
SUMMARY:Conservation Commitment Reports Review Group Meeting
DESCRIPTION:NASCO HQ (times to be confirmed)\n
URL:https://nasco.int/event/conservation-commitment-reports-review-group-meeting-2/
END:VEVENT
END:VCALENDAR