BEGIN:VCALENDAR
VERSION:2.0
PRODID:-//NASCO - ECPv4.9.11//NONSGML v1.0//EN
CALSCALE:GREGORIAN
METHOD:PUBLISH
X-WR-CALNAME:NASCO
X-ORIGINAL-URL:https://nasco.int
X-WR-CALDESC:Events for NASCO
BEGIN:VTIMEZONE
TZID:UTC
BEGIN:STANDARD
TZOFFSETFROM:+0000
TZOFFSETTO:+0000
TZNAME:UTC
DTSTART:20250101T000000
END:STANDARD
END:VTIMEZONE
BEGIN:VEVENT
DTSTART;TZID=UTC:20251211T110000
DTEND;TZID=UTC:20251211T180000
DTSTAMP:20260419T220458
CREATED:20250826T093936Z
LAST-MODIFIED:20250826T093936Z
UID:23364-1765450800-1765476000@nasco.int
SUMMARY:Inter-Sessional Meeting of the Council
DESCRIPTION:HQ / Hybrid\n
URL:https://nasco.int/event/inter-sessional-meeting-of-the-council-4/
END:VEVENT
END:VCALENDAR