BEGIN:VCALENDAR
VERSION:2.0
PRODID:-//NASCO - ECPv4.9.11//NONSGML v1.0//EN
CALSCALE:GREGORIAN
METHOD:PUBLISH
X-WR-CALNAME:NASCO
X-ORIGINAL-URL:https://nasco.int
X-WR-CALDESC:Events for NASCO
BEGIN:VTIMEZONE
TZID:UTC
BEGIN:STANDARD
TZOFFSETFROM:+0000
TZOFFSETTO:+0000
TZNAME:UTC
DTSTART:20210101T000000
END:STANDARD
END:VTIMEZONE
BEGIN:VEVENT
DTSTART;TZID=UTC:20211215T133000
DTEND;TZID=UTC:20211215T163000
DTSTAMP:20260420T025249
CREATED:20210928T142052Z
LAST-MODIFIED:20210928T142554Z
UID:17271-1639575000-1639585800@nasco.int
SUMMARY:Inter-Sessional Meeting of the West Greenland Commission (TBC)
DESCRIPTION:
URL:https://nasco.int/event/inter-sessional-meeting-of-the-west-greenland-commission-4/
END:VEVENT
END:VCALENDAR