BEGIN:VCALENDAR
VERSION:2.0
PRODID:-//NASCO - ECPv4.9.11//NONSGML v1.0//EN
CALSCALE:GREGORIAN
METHOD:PUBLISH
X-WR-CALNAME:NASCO
X-ORIGINAL-URL:https://nasco.int
X-WR-CALDESC:Events for NASCO
BEGIN:VTIMEZONE
TZID:UTC
BEGIN:STANDARD
TZOFFSETFROM:+0000
TZOFFSETTO:+0000
TZNAME:UTC
DTSTART:20200101T000000
END:STANDARD
END:VTIMEZONE
BEGIN:VEVENT
DTSTART;TZID=UTC:20200922T130000
DTEND;TZID=UTC:20200924T160000
DTSTAMP:20260420T090024
CREATED:20200903T092458Z
LAST-MODIFIED:20200903T092931Z
UID:12570-1600779600-1600963200@nasco.int
SUMMARY:Meeting of the Steering Committee for the 2021 Theme-based Special Session
DESCRIPTION:By Webex \nTuesday 22 September\, 13:00 – 16:00 \nWednesday 23 September\, 13:00 – 16:00 \nThursday 24 September\, 13:00 – 16:00 \n
URL:https://nasco.int/event/meeting-of-the-steering-committee-for-the-2021-theme-based-special-session/
END:VEVENT
END:VCALENDAR