BEGIN:VCALENDAR
VERSION:2.0
PRODID:-//NASCO - ECPv4.9.11//NONSGML v1.0//EN
CALSCALE:GREGORIAN
METHOD:PUBLISH
X-WR-CALNAME:NASCO
X-ORIGINAL-URL:https://nasco.int
X-WR-CALDESC:Events for NASCO
BEGIN:VTIMEZONE
TZID:UTC
BEGIN:STANDARD
TZOFFSETFROM:+0000
TZOFFSETTO:+0000
TZNAME:UTC
DTSTART:20250101T000000
END:STANDARD
END:VTIMEZONE
BEGIN:VEVENT
DTSTART;TZID=UTC:20251113T090000
DTEND;TZID=UTC:20251113T173000
DTSTAMP:20260420T031658
CREATED:20250826T093449Z
LAST-MODIFIED:20250826T093449Z
UID:23358-1763024400-1763055000@nasco.int
SUMMARY:Meeting of the Working Group to Revise NASCO's Guidelines on Habitat Protection and Restoration
DESCRIPTION:NASCO HQ\n
URL:https://nasco.int/event/meeting-of-the-working-group-to-revise-nascos-guidelines-on-habitat-protection-and-restoration-4/
END:VEVENT
END:VCALENDAR