BEGIN:VCALENDAR
VERSION:2.0
PRODID:-//NASCO - ECPv4.9.11//NONSGML v1.0//EN
CALSCALE:GREGORIAN
METHOD:PUBLISH
X-WR-CALNAME:NASCO
X-ORIGINAL-URL:https://nasco.int
X-WR-CALDESC:Events for NASCO
BEGIN:VTIMEZONE
TZID:UTC
BEGIN:STANDARD
TZOFFSETFROM:+0000
TZOFFSETTO:+0000
TZNAME:UTC
DTSTART:20210101T000000
END:STANDARD
END:VTIMEZONE
BEGIN:VEVENT
DTSTART;TZID=UTC:20211202T130000
DTEND;TZID=UTC:20211202T160000
DTSTAMP:20260419T233053
CREATED:20210929T072337Z
LAST-MODIFIED:20210929T072337Z
UID:17284-1638450000-1638460800@nasco.int
SUMMARY:Rivers Database Working Group Meeting
DESCRIPTION:
URL:https://nasco.int/event/rivers-database-working-group-meeting-3/
END:VEVENT
END:VCALENDAR